BEGIN:VCALENDAR
VERSION:2.0
PRODID:-//New Century Motorcycles - ECPv6.7.0//NONSGML v1.0//EN
CALSCALE:GREGORIAN
METHOD:PUBLISH
X-ORIGINAL-URL:https://www.newcenturymoto.com
X-WR-CALDESC:Events for New Century Motorcycles
REFRESH-INTERVAL;VALUE=DURATION:PT1H
X-Robots-Tag:noindex
X-PUBLISHED-TTL:PT1H
BEGIN:VTIMEZONE
TZID:America/Denver
BEGIN:DAYLIGHT
TZOFFSETFROM:-0700
TZOFFSETTO:-0600
TZNAME:MDT
DTSTART:20260308T090000
END:DAYLIGHT
BEGIN:STANDARD
TZOFFSETFROM:-0600
TZOFFSETTO:-0700
TZNAME:MST
DTSTART:20261101T080000
END:STANDARD
END:VTIMEZONE
BEGIN:VEVENT
DTSTART;TZID=America/Denver:20260516T090000
DTEND;TZID=America/Denver:20260516T180000
DTSTAMP:20260419T181843
CREATED:20260409T205556Z
LAST-MODIFIED:20260410T161406Z
UID:114765-1778922000-1778954400@www.newcenturymoto.com
SUMMARY:Open Haus Event
DESCRIPTION:Join us on Saturday May 16th for an Open Haus!\n9:00 AM – 11:00 AM – Goat Moto Yoga and continental breakfast served\n11:00 AM – 4:00 PM – Demo Rides and lunch served\n2:00 PM – 6:00 PM – Swap Meet
URL:https://www.newcenturymoto.com/event/open-haus-event/
ATTACH;FMTTYPE=image/jpeg:https://www.newcenturymoto.com/wp-content/uploads/2026/04/Open-Haus-Event-Social-3.jpg
END:VEVENT
END:VCALENDAR